BEGIN:VCALENDAR
VERSION:2.0
PRODID:-//The Historic Trust - ECPv6.15.20//NONSGML v1.0//EN
CALSCALE:GREGORIAN
METHOD:PUBLISH
X-ORIGINAL-URL:https://www.thehistorictrust.org
X-WR-CALDESC:Events for The Historic Trust
REFRESH-INTERVAL;VALUE=DURATION:PT1H
X-Robots-Tag:noindex
X-PUBLISHED-TTL:PT1H
BEGIN:VTIMEZONE
TZID:America/Los_Angeles
BEGIN:DAYLIGHT
TZOFFSETFROM:-0800
TZOFFSETTO:-0700
TZNAME:PDT
DTSTART:20220313T100000
END:DAYLIGHT
BEGIN:STANDARD
TZOFFSETFROM:-0700
TZOFFSETTO:-0800
TZNAME:PST
DTSTART:20221106T090000
END:STANDARD
BEGIN:DAYLIGHT
TZOFFSETFROM:-0800
TZOFFSETTO:-0700
TZNAME:PDT
DTSTART:20230312T100000
END:DAYLIGHT
BEGIN:STANDARD
TZOFFSETFROM:-0700
TZOFFSETTO:-0800
TZNAME:PST
DTSTART:20231105T090000
END:STANDARD
BEGIN:DAYLIGHT
TZOFFSETFROM:-0800
TZOFFSETTO:-0700
TZNAME:PDT
DTSTART:20240310T100000
END:DAYLIGHT
BEGIN:STANDARD
TZOFFSETFROM:-0700
TZOFFSETTO:-0800
TZNAME:PST
DTSTART:20241103T090000
END:STANDARD
END:VTIMEZONE
BEGIN:VEVENT
DTSTART;VALUE=DATE:20230506
DTEND;VALUE=DATE:20230507
DTSTAMP:20260419T080854
CREATED:20230213T203818Z
LAST-MODIFIED:20230503T150609Z
UID:10000292-1683331200-1683417599@www.thehistorictrust.org
SUMMARY:Spring Tea at The Marshall House
DESCRIPTION:[vc_row][vc_column][vc_column_text css=”.vc_custom_1683126364226{margin-bottom: 0px !important;}”]\nJoin us at the beautiful Marshall House for our Spring Tea\, Saturday\, May 6th. We are excited to welcome Dandelion Teahouse & Apothecary as our event partner! Come meet the fantastic team behind one of downtown Vancouver’s small business gems. Dandelion is providing our delicious teas along with sharing their knowledge of this drink that has been enjoyed for centuries. This is a fun\, relaxing event that you do not want to miss! Beautiful music from Celtic Muse\, https://bit.ly/3GgaBlk. Choose from one of two seatings\, 11 am or 2 pm. Space is limited. \nRegistration Closed\n  \nThank you to our community sponsor\, Columbia Credit Union! \n[/vc_column_text][/vc_column][/vc_row]
URL:https://www.thehistorictrust.org/calendar/spring-tea-at-the-marshall-house/
LOCATION:The Marshall House\, 1301 Officers Row\, Vancouver\, WA\, 98661\, United States
GEO:45.6276649;-122.657351
X-APPLE-STRUCTURED-LOCATION;VALUE=URI;X-ADDRESS=The Marshall House 1301 Officers Row Vancouver WA 98661 United States;X-APPLE-RADIUS=500;X-TITLE=1301 Officers Row:geo:-122.657351,45.6276649
END:VEVENT
END:VCALENDAR