BEGIN:VCALENDAR
VERSION:2.0
PRODID:-//The Historic Trust - ECPv6.15.20//NONSGML v1.0//EN
CALSCALE:GREGORIAN
METHOD:PUBLISH
X-WR-CALNAME:The Historic Trust
X-ORIGINAL-URL:https://www.thehistorictrust.org
X-WR-CALDESC:Events for The Historic Trust
REFRESH-INTERVAL;VALUE=DURATION:PT1H
X-Robots-Tag:noindex
X-PUBLISHED-TTL:PT1H
BEGIN:VTIMEZONE
TZID:America/Los_Angeles
BEGIN:DAYLIGHT
TZOFFSETFROM:-0800
TZOFFSETTO:-0700
TZNAME:PDT
DTSTART:20230312T100000
END:DAYLIGHT
BEGIN:STANDARD
TZOFFSETFROM:-0700
TZOFFSETTO:-0800
TZNAME:PST
DTSTART:20231105T090000
END:STANDARD
BEGIN:DAYLIGHT
TZOFFSETFROM:-0800
TZOFFSETTO:-0700
TZNAME:PDT
DTSTART:20240310T100000
END:DAYLIGHT
BEGIN:STANDARD
TZOFFSETFROM:-0700
TZOFFSETTO:-0800
TZNAME:PST
DTSTART:20241103T090000
END:STANDARD
BEGIN:DAYLIGHT
TZOFFSETFROM:-0800
TZOFFSETTO:-0700
TZNAME:PDT
DTSTART:20250309T100000
END:DAYLIGHT
BEGIN:STANDARD
TZOFFSETFROM:-0700
TZOFFSETTO:-0800
TZNAME:PST
DTSTART:20251102T090000
END:STANDARD
END:VTIMEZONE
BEGIN:VEVENT
DTSTART;TZID=America/Los_Angeles:20241111T110000
DTEND;TZID=America/Los_Angeles:20241111T130000
DTSTAMP:20260421T020830
CREATED:20240813T180451Z
LAST-MODIFIED:20241107T162541Z
UID:10000498-1731322800-1731330000@www.thehistorictrust.org
SUMMARY:36th Annual Lough Legacy Veterans Day Parade
DESCRIPTION:36TH ANNUAL LOUGH LEGACY VETERANS DAY PARADE!\nMonday\, November 11th\, 2024 \nFort Vancouver National Site \nParade Starts at 11:00 am \n\n\n\nMake plans to join us as a parade participant or come enjoy the parade and honor our military history! \nAmple public parking available. Please click the link below for a map indicating parking locations and parade route information. Accessible parking is located in the staff lot on the west side of the General O.O. Howard House at 750 Anderson St. \n**Please note that the parade route will close to all vehicles at 10:30 am\, November 11th with no entry or exit to and from any of the parking located along the route. If you plan on parking in any of these areas\, please make plans to arrive before 10:30 am. Please be aware that you will not be able to leave until the parade has ended. \nPlease contact Mindy Wilkins at mindy.wilkins@thehistorictrust.org if you have any questions or need assistance. \nParking and Route Information Here: \nhttps://www.thehistorictrust.org/lough-legacy-veterans-parade/ \n  \nBe sure and stop by the Community Military Appreciation Committee (CMAC) Open House at Pearson Hangar\, 11 am – 3 pm. Enjoy hot coffee\, hot cocoa\, and hot dogs! \nhttps://cmac11.com/event/cmacs-veterans-day-reception/ \n  \nVancouver\, Washington has a long-established tradition of honoring our military history. Now in its 36th year\, the Lough Legacy Veterans Parade celebrates the service and sacrifice area veterans have made for our freedom. Along with our partnership with the City of Vancouver\, these events are made possibly through a generous donation from Frank and JoAnne Lough\, who dedicated resources to support Veterans Day Services. \nThank you to our sponsors!                                                                                                                                                                                                         With Thanks To\nFlag and Parade Entry Sponsor \n \n                   Supporting Sponsor
URL:https://www.thehistorictrust.org/calendar/36th-annual-lough-legacy-veterans-day-parade/
CATEGORIES:Celebrate Freedom Activities,The Historic Trust,Veterans Events
ATTACH;FMTTYPE=image/png:https://www.thehistorictrust.org/wp-content/uploads/2024/08/trust-veterans-day-parade-social-graphic.png
END:VEVENT
BEGIN:VEVENT
DTSTART;TZID=America/Los_Angeles:20241114T180000
DTEND;TZID=America/Los_Angeles:20241114T200000
DTSTAMP:20260421T020830
CREATED:20240402T183627Z
LAST-MODIFIED:20240603T161829Z
UID:10000477-1731607200-1731614400@www.thehistorictrust.org
SUMMARY:Stomp and Shout: The Untold Story of Northwest Rock & Roll
DESCRIPTION:Northwest Rock & Roll’s historical highpoints are well documented—in the late 20th century\, Nirvana\, Soundgarden\, Pearl Jam\, and other grunge gods took the world by storm. Previously\, Seattle’s Queensrÿche and Heart had ruled the heavy metal realm. And prior to that\, The Wailers\, The Kingsmen\, Paul Revere and The Raiders\, and The Sonics had all fueled local teen dances with garage-rock versions of the region’s signature song\, “Louie Louie.” \nYet these iconic bands are only half the story. In this talk\, join author Peter Blecha to discover the lesser-known but vitally important bands and scenes that laid the foundation for what was to come—finally connecting all the dots between the fabled Northwest era of Ray Charles\, Quincy Jones\, and Jimmy Hendrix\, and the R&B-spiked roots of a distinct regional artform: the “Original Northwest Sound.” \nPeter Blecha (he/him) is the director of the Northwest Music Archives\, an award-winning author\, a founding curator at MoPop\, and a longtime staff historian at HistoryLink.org. Blecha’s newest book\, Stomp and Shout: R&B and the Origins of Northwest Rock and Roll\, draws on his deep knowledge as a leading expert on Pacific Northwest music history to chronicle both well-known and overlooked icons of the early Northwest Sound. \nBlecha lives in Seattle. \nClick HERE for details and registration information. This program is offered free of charge but seating is limited so register soon!\nThank you to Humanities WA for their support in bringing this event to Vancouver. Special thanks to Umpqua Bank for their sponsorship support\, and to the NAACP Vancouver for joining us as our promotional partner for our 2024 series of speaker events.  \n \n  \n  \n 
URL:https://www.thehistorictrust.org/calendar/stomp-and-shout-the-untold-story-of-northwest-rock-roll/
LOCATION:Red Cross Building\, 605 Barnes Street\, Vancouver\, 98661\, United States
ATTACH;FMTTYPE=image/jpeg:https://www.thehistorictrust.org/wp-content/uploads/2024/04/humanities_speakers_instagram_2023peter-blecha.jpg
GEO:45.6269616;-122.6665754
X-APPLE-STRUCTURED-LOCATION;VALUE=URI;X-ADDRESS=Red Cross Building 605 Barnes Street Vancouver 98661 United States;X-APPLE-RADIUS=500;X-TITLE=605 Barnes Street:geo:-122.6665754,45.6269616
END:VEVENT
END:VCALENDAR