BEGIN:VCALENDAR
VERSION:2.0
PRODID:-//The Historic Trust - ECPv6.15.20//NONSGML v1.0//EN
CALSCALE:GREGORIAN
METHOD:PUBLISH
X-ORIGINAL-URL:https://www.thehistorictrust.org
X-WR-CALDESC:Events for The Historic Trust
REFRESH-INTERVAL;VALUE=DURATION:PT1H
X-Robots-Tag:noindex
X-PUBLISHED-TTL:PT1H
BEGIN:VTIMEZONE
TZID:America/Los_Angeles
BEGIN:DAYLIGHT
TZOFFSETFROM:-0800
TZOFFSETTO:-0700
TZNAME:PDT
DTSTART:20240310T100000
END:DAYLIGHT
BEGIN:STANDARD
TZOFFSETFROM:-0700
TZOFFSETTO:-0800
TZNAME:PST
DTSTART:20241103T090000
END:STANDARD
BEGIN:DAYLIGHT
TZOFFSETFROM:-0800
TZOFFSETTO:-0700
TZNAME:PDT
DTSTART:20250309T100000
END:DAYLIGHT
BEGIN:STANDARD
TZOFFSETFROM:-0700
TZOFFSETTO:-0800
TZNAME:PST
DTSTART:20251102T090000
END:STANDARD
BEGIN:DAYLIGHT
TZOFFSETFROM:-0800
TZOFFSETTO:-0700
TZNAME:PDT
DTSTART:20260308T100000
END:DAYLIGHT
BEGIN:STANDARD
TZOFFSETFROM:-0700
TZOFFSETTO:-0800
TZNAME:PST
DTSTART:20261101T090000
END:STANDARD
END:VTIMEZONE
BEGIN:VEVENT
DTSTART;TZID=America/Los_Angeles:20250816T110000
DTEND;TZID=America/Los_Angeles:20250816T133000
DTSTAMP:20260421T115301
CREATED:20250425T174604Z
LAST-MODIFIED:20250811T175559Z
UID:10000542-1755342000-1755351000@www.thehistorictrust.org
SUMMARY:Family Series: Puppet Day
DESCRIPTION:Step into a world of imagination and wonder at our Children’s Puppet Show! Families are invited to gather on the O.O. Howard House lawn for a delightful afternoon of storytelling\, laughter\, and puppet adventure. Our puppeteers will bring characters to life with engaging tales that captivate young audiences and spark creativity. FREE event!  \nEvent Schedule: \n11:00 am – Dragon Theater presents Dungeons & Decisions \n12:00 pm – Pegasus Theater presents Stellaluna \nDelicious tacos available from 4 Caminos. Sweet treats available from Kona Ice\, Nachos Dessert & A Cherry on Top \nWhat to bring: \n\nPicnic blanket or low-back chair\nWater and thermos/bottle\nEntire family for puppet magic!\n\nThank you to our sponsors! \nRiverview Bank \nElmer’s Restaurants \nQuantum Fiber  \nPort of Vancouver \nWaste Connections  \nThe Columbian \nOregonian Media Group/Here is Oregon \nCity of Vancouver
URL:https://www.thehistorictrust.org/calendar/family-series-puppet-day/
LOCATION:O.O. Howard House\, 750 Anderson St.\, Vancouver\, WA\, 98661\, United States
CATEGORIES:Family Series
ATTACH;FMTTYPE=image/jpeg:https://www.thehistorictrust.org/wp-content/uploads/2025/04/070825a_tht_puppet-day_event-header-e1752018530276.jpg
GEO:45.6280985;-122.6643404
X-APPLE-STRUCTURED-LOCATION;VALUE=URI;X-ADDRESS=O.O. Howard House 750 Anderson St. Vancouver WA 98661 United States;X-APPLE-RADIUS=500;X-TITLE=750 Anderson St.:geo:-122.6643404,45.6280985
END:VEVENT
END:VCALENDAR