BEGIN:VCALENDAR
VERSION:2.0
PRODID:-//The Historic Trust - ECPv6.15.20//NONSGML v1.0//EN
CALSCALE:GREGORIAN
METHOD:PUBLISH
X-ORIGINAL-URL:https://www.thehistorictrust.org
X-WR-CALDESC:Events for The Historic Trust
REFRESH-INTERVAL;VALUE=DURATION:PT1H
X-Robots-Tag:noindex
X-PUBLISHED-TTL:PT1H
BEGIN:VTIMEZONE
TZID:America/Los_Angeles
BEGIN:DAYLIGHT
TZOFFSETFROM:-0800
TZOFFSETTO:-0700
TZNAME:PDT
DTSTART:20240310T100000
END:DAYLIGHT
BEGIN:STANDARD
TZOFFSETFROM:-0700
TZOFFSETTO:-0800
TZNAME:PST
DTSTART:20241103T090000
END:STANDARD
BEGIN:DAYLIGHT
TZOFFSETFROM:-0800
TZOFFSETTO:-0700
TZNAME:PDT
DTSTART:20250309T100000
END:DAYLIGHT
BEGIN:STANDARD
TZOFFSETFROM:-0700
TZOFFSETTO:-0800
TZNAME:PST
DTSTART:20251102T090000
END:STANDARD
BEGIN:DAYLIGHT
TZOFFSETFROM:-0800
TZOFFSETTO:-0700
TZNAME:PDT
DTSTART:20260308T100000
END:DAYLIGHT
BEGIN:STANDARD
TZOFFSETFROM:-0700
TZOFFSETTO:-0800
TZNAME:PST
DTSTART:20261101T090000
END:STANDARD
END:VTIMEZONE
BEGIN:VEVENT
DTSTART;TZID=America/Los_Angeles:20250726T110000
DTEND;TZID=America/Los_Angeles:20250726T150000
DTSTAMP:20260421T115025
CREATED:20250425T174307Z
LAST-MODIFIED:20250717T153259Z
UID:10000540-1753527600-1753542000@www.thehistorictrust.org
SUMMARY:Family Series: Family Fun Day
DESCRIPTION:Join us for a day of excitement\, laugher and family fun! It’s a fantastic way to spend time together making unforgettable memories while enjoying the shady Grant House lawn. Parents can relax with great food and community vibes while kids explore a world of fun. Bring along a picnic blanket for ultimate relaxing. FREE event! Open to all. \nHighlights Include: \n\nKids stage entertainment (schedule below)\nYard games\nFace painting\nFood trucks\, including Razo’s Tacos and Kona Ice\n\nPerformance Schedule: \n11 am – Angel Ocasio \n12 pm – Red Yarn \n1 pm – Mo Phillips \n2 pm – Lucky Luke\, Magician \nThe historic Marshall House will be open 11am-3pm for Saturday tours as well. Schedule a tour time in advance or drop in to learn more about this incredible Officers Row landmark\, and the Nobel Peace Prize-winning man it is named after! \nReserve Tour Here \nFREE parking location map here! \nThank you to our sponsors! \nRiverview Bank \nElmer’s Restaurants \nQuantum Fiber  \nPort of Vancouver \nWaste Connections  \nThe Columbian \nOregonian Media Group/Here is Oregon \nCity of Vancouver \n       \n  \n  \n                             \n  \n  \n\n\n 
URL:https://www.thehistorictrust.org/calendar/family-series-family-fun-day/
LOCATION:Grant House\, 1101 Officers Row\, Vancouver\, 98661\, United States
CATEGORIES:Family Series
ATTACH;FMTTYPE=image/jpeg:https://www.thehistorictrust.org/wp-content/uploads/2025/04/060525a_tht_family-fun-day_event-header-e1749153919370.jpg
GEO:45.62824;-122.6600707
X-APPLE-STRUCTURED-LOCATION;VALUE=URI;X-ADDRESS=Grant House 1101 Officers Row Vancouver 98661 United States;X-APPLE-RADIUS=500;X-TITLE=1101 Officers Row:geo:-122.6600707,45.62824
END:VEVENT
END:VCALENDAR