BEGIN:VCALENDAR
VERSION:2.0
PRODID:-//The Historic Trust - ECPv6.15.20//NONSGML v1.0//EN
CALSCALE:GREGORIAN
METHOD:PUBLISH
X-ORIGINAL-URL:https://www.thehistorictrust.org
X-WR-CALDESC:Events for The Historic Trust
REFRESH-INTERVAL;VALUE=DURATION:PT1H
X-Robots-Tag:noindex
X-PUBLISHED-TTL:PT1H
BEGIN:VTIMEZONE
TZID:America/Los_Angeles
BEGIN:DAYLIGHT
TZOFFSETFROM:-0800
TZOFFSETTO:-0700
TZNAME:PDT
DTSTART:20220313T100000
END:DAYLIGHT
BEGIN:STANDARD
TZOFFSETFROM:-0700
TZOFFSETTO:-0800
TZNAME:PST
DTSTART:20221106T090000
END:STANDARD
BEGIN:DAYLIGHT
TZOFFSETFROM:-0800
TZOFFSETTO:-0700
TZNAME:PDT
DTSTART:20230312T100000
END:DAYLIGHT
BEGIN:STANDARD
TZOFFSETFROM:-0700
TZOFFSETTO:-0800
TZNAME:PST
DTSTART:20231105T090000
END:STANDARD
BEGIN:DAYLIGHT
TZOFFSETFROM:-0800
TZOFFSETTO:-0700
TZNAME:PDT
DTSTART:20240310T100000
END:DAYLIGHT
BEGIN:STANDARD
TZOFFSETFROM:-0700
TZOFFSETTO:-0800
TZNAME:PST
DTSTART:20241103T090000
END:STANDARD
END:VTIMEZONE
BEGIN:VEVENT
DTSTART;TZID=America/Los_Angeles:20231202T110000
DTEND;TZID=America/Los_Angeles:20231202T123000
DTSTAMP:20260421T162820
CREATED:20231010T153145Z
LAST-MODIFIED:20231103T202230Z
UID:10000445-1701514800-1701520200@www.thehistorictrust.org
SUMMARY:SOLD OUT! Holiday Tea at the Marshall House
DESCRIPTION:Join us at the beautiful Marshall House for our Holiday Tea\, Saturday\, December 2. With a delicious menu and delightful teas provided by Dandelion Teahouse and Apothecary\, this is a special holiday event that you do not want to miss! Plus\, beautiful music from Celtic Muse \nChoose from one of two seatings\, 11 am or 2 pm. Space is limited. \nThank you to our community sponsor\, Columbia Credit Union! \n  \n\n \n 
URL:https://www.thehistorictrust.org/calendar/holiday-tea-at-the-marshall-house/
LOCATION:The Marshall House\, 1301 Officers Row\, Vancouver\, WA\, 98661\, United States
GEO:45.6276649;-122.657351
X-APPLE-STRUCTURED-LOCATION;VALUE=URI;X-ADDRESS=The Marshall House 1301 Officers Row Vancouver WA 98661 United States;X-APPLE-RADIUS=500;X-TITLE=1301 Officers Row:geo:-122.657351,45.6276649
END:VEVENT
END:VCALENDAR